BEGIN:VCALENDAR
VERSION:2.0
PRODID:-//Carnegie Visual Arts Center - ECPv4.9.1.1//NONSGML v1.0//EN
CALSCALE:GREGORIAN
METHOD:PUBLISH
X-WR-CALNAME:Carnegie Visual Arts Center
X-ORIGINAL-URL:https://www.carnegiearts.org
X-WR-CALDESC:Events for Carnegie Visual Arts Center
BEGIN:VEVENT
DTSTART;TZID=America/Chicago:20230505T000000
DTEND;TZID=America/Chicago:20230505T233000
DTSTAMP:20260421T182553
CREATED:20230424T124706Z
LAST-MODIFIED:20230424T135550Z
UID:4520-1683262800-1683347400@www.carnegiearts.org
SUMMARY:Embracing Art XXI Artists Reception
DESCRIPTION:[vc_row css_animation=”” row_type=”row” use_row_as_full_screen_section=”no” type=”full_width” angled_section=”no” text_align=”left” background_image_as_pattern=”without_pattern” el_class=”single_event_top” z_index=””][vc_column css_animation=”fadeInUp” width=”1/3″][vc_column_text]Past Artist Reception\n  Embracing Art XXI Artists Reception\n  \n  \n  May 5\, 20236:00 pm-7:30 pm\n  Carnegie Visual Arts Center\n  \n	[/vc_column_text][vc_column_text] \nArtist Reception\, Friday\, May 5th\, 6:00-7:30 pm\nJoin us for the Artists’ Reception of Embracing Art XXI\, A Coming Together of Amateur and Professional Artists. Members-FREE and Guests-$5. Appetizers and a cash bar are available. \nEmbracing Art is an annual juried exhibit featuring works by North Alabama-connected artists and was the inaugural exhibit for the Carnegie Visual Arts Center in April of 2003. The exhibit includes works in multiple media including pencil\, watercolor\, oil\, acrylic\, clay\, and mixed media. The artists are included in the exhibit from their submitted applications including photographs of up to two pieces of their art. \n[/vc_column_text][/vc_column][vc_column css_animation=”fadeInRight” width=”2/3″][vc_single_image image=”4521″ img_size=”full” qode_css_animation=””][/vc_column][/vc_row] \n
URL:https://www.carnegiearts.org/event/4520/
LOCATION:Carnegie Visual Arts Center\, 207 Church Street\, NE\, Decatur\, AL\, 35601\, United States
GEO:34.6116027;-86.9820676
X-APPLE-STRUCTURED-LOCATION;VALUE=URI;X-ADDRESS=Carnegie Visual Arts Center 207 Church Street NE Decatur AL 35601 United States;X-APPLE-RADIUS=500;X-TITLE=207 Church Street\, NE:geo:-86.9820676,34.6116027
CATEGORIES:Artist Reception
ATTACH;FMTTYPE=image/jpeg:https://www.carnegiearts.org/wp-content/uploads/2023/04/EA-RECEPT-WEB.jpg
END:VEVENT
END:VCALENDAR