BEGIN:VCALENDAR
VERSION:2.0
PRODID:-//Carnegie Visual Arts Center - ECPv4.9.1.1//NONSGML v1.0//EN
CALSCALE:GREGORIAN
METHOD:PUBLISH
X-WR-CALNAME:Carnegie Visual Arts Center
X-ORIGINAL-URL:https://www.carnegiearts.org
X-WR-CALDESC:Events for Carnegie Visual Arts Center
BEGIN:VEVENT
DTSTART;TZID=America/Chicago:20251106T000000
DTEND;TZID=America/Chicago:20251106T120000
DTSTAMP:20260420T001626
CREATED:20251024T120938Z
LAST-MODIFIED:20251024T121202Z
UID:6642-1762408800-1762452000@www.carnegiearts.org
SUMMARY:Artist Reception with Roberto Salcido
DESCRIPTION:[vc_row css_animation=”” row_type=”row” use_row_as_full_screen_section=”no” type=”full_width” angled_section=”no” text_align=”left” background_image_as_pattern=”without_pattern” el_class=”single_event_top” z_index=””][vc_column css_animation=”fadeInUp” width=”1/2″][vc_column_text]Past Artist Reception\, Event\n  Artist Reception with Roberto Salcido\n  \n  \n  Nov 6\, 20256:00 pm-7:30 pm\n  Carnegie Visual Arts Center\n  \n	[/vc_column_text][vc_column_text]Join us for our Artist Reception and meet Roberto Salcido for the exhibit\, Alma y Color: The Soul of a Craftsman\, in the gallery on Thursday\, November 6th\, from 6:00-7:30 pm. Light appetizers will be served and a cash bar will be available. Carnegie Member’s admission to the reception is free and includes a drink ticket. Guest admission is $5.[/vc_column_text]Back to Alma y Color: The Soul of a Craftsman[/vc_column][vc_column css_animation=”fadeInRight” width=”1/2″][vc_single_image image=”6588″ img_size=”full” qode_css_animation=””][vc_empty_space][vc_empty_space][/vc_column][/vc_row][vc_row css_animation=”” row_type=”row” use_row_as_full_screen_section=”no” type=”grid” angled_section=”no” text_align=”left” background_image_as_pattern=”without_pattern” z_index=”” el_class=”staff gray_section”][vc_column width=”1/3″][vc_single_image image=”6647″ img_size=”medium” alignment=”center” qode_css_animation=””][/vc_column][vc_column width=”1/3″][vc_single_image image=”6588″ img_size=”medium” alignment=”center” qode_css_animation=””][/vc_column][vc_column width=”1/3″][vc_single_image image=”6646″ img_size=”medium” alignment=”center” qode_css_animation=””][/vc_column][/vc_row][vc_row css_animation=”” row_type=”row” use_row_as_full_screen_section=”no” type=”full_width” angled_section=”no” text_align=”left” background_image_as_pattern=”without_pattern”][vc_column][vc_empty_space][vc_empty_space][/vc_column][/vc_row] \n
URL:https://www.carnegiearts.org/event/artist-reception-with-roberto-salcido/
LOCATION:Carnegie Visual Arts Center\, 207 Church Street\, NE\, Decatur\, AL\, 35601\, United States
GEO:34.6116027;-86.9820676
X-APPLE-STRUCTURED-LOCATION;VALUE=URI;X-ADDRESS=Carnegie Visual Arts Center 207 Church Street NE Decatur AL 35601 United States;X-APPLE-RADIUS=500;X-TITLE=207 Church Street\, NE:geo:-86.9820676,34.6116027
CATEGORIES:Artist Reception,Event
ATTACH;FMTTYPE=image/jpeg:https://www.carnegiearts.org/wp-content/uploads/2025/10/RS_Event_WEB-scaled.jpg
END:VEVENT
END:VCALENDAR