BEGIN:VCALENDAR
VERSION:2.0
PRODID:-//Carnegie Visual Arts Center - ECPv4.9.1.1//NONSGML v1.0//EN
CALSCALE:GREGORIAN
METHOD:PUBLISH
X-WR-CALNAME:Carnegie Visual Arts Center
X-ORIGINAL-URL:https://www.carnegiearts.org
X-WR-CALDESC:Events for Carnegie Visual Arts Center
BEGIN:VEVENT
DTSTART;TZID=America/Chicago:20250905T000000
DTEND;TZID=America/Chicago:20250905T120000
DTSTAMP:20260424T141425
CREATED:20250815T123001Z
LAST-MODIFIED:20250815T123145Z
UID:6423-1757048400-1757091600@www.carnegiearts.org
SUMMARY:Artists Reception for the Arthouse Group
DESCRIPTION:[vc_row css_animation=”” row_type=”row” use_row_as_full_screen_section=”no” type=”full_width” angled_section=”no” text_align=”left” background_image_as_pattern=”without_pattern” el_class=”single_event_top” z_index=””][vc_column css_animation=”fadeInUp” width=”1/2″][vc_column_text]Past Artist Reception\n  Artists Reception for the Arthouse Group\n  \n  \n  Sep 5\, 20256:00 pm-7:30 pm\n  Carnegie Visual Arts Center\n  \n	[/vc_column_text][vc_column_text]Join us on Friday\, Sept 5th from 6-7:30 to meet the artists of the Decatur Arthouse Group and celebrate their new exhibit\, Connections. \nMake plans to attend and bring a friend!\nLight appetizers and a cash bar will be available.\nMembers—Free (includes 1 drink ticket)\nNot Yet Members—$5 \nExhibiting Artists: \nLaura Grace Clark\, Tammie Clark\, Jessica Emrick\, Marsha Ercegovic\, Rickie Higgins \nMichael Manly\, Michié Mooney\, Jennifer Mumby\, Mary H Reed\, Rebecca Sower[/vc_column_text][/vc_column][vc_column css_animation=”fadeInRight” width=”1/2″][vc_single_image image=”6340″ img_size=”full” qode_css_animation=””][/vc_column][/vc_row] \n
URL:https://www.carnegiearts.org/event/artists-reception-for-the-arthouse-group/
LOCATION:Carnegie Visual Arts Center\, 207 Church Street\, NE\, Decatur\, AL\, 35601\, United States
GEO:34.6116027;-86.9820676
X-APPLE-STRUCTURED-LOCATION;VALUE=URI;X-ADDRESS=Carnegie Visual Arts Center 207 Church Street NE Decatur AL 35601 United States;X-APPLE-RADIUS=500;X-TITLE=207 Church Street\, NE:geo:-86.9820676,34.6116027
CATEGORIES:Artist Reception
ATTACH;FMTTYPE=image/jpeg:https://www.carnegiearts.org/wp-content/uploads/2025/08/ArtHG_Event_WEB.jpg
END:VEVENT
END:VCALENDAR