BEGIN:VCALENDAR
VERSION:2.0
PRODID:-//Carnegie Visual Arts Center - ECPv4.9.1.1//NONSGML v1.0//EN
CALSCALE:GREGORIAN
METHOD:PUBLISH
X-WR-CALNAME:Carnegie Visual Arts Center
X-ORIGINAL-URL:https://www.carnegiearts.org
X-WR-CALDESC:Events for Carnegie Visual Arts Center
BEGIN:VEVENT
DTSTART;TZID=America/Chicago:20250902T100000
DTEND;TZID=America/Chicago:20251018T140000
DTSTAMP:20260424T134502
CREATED:20250820T104313Z
LAST-MODIFIED:20250915T175923Z
UID:6328-1756825200-1760814000@www.carnegiearts.org
SUMMARY:Connections: The Arthouse Group
DESCRIPTION:[vc_row css_animation=”” row_type=”row” use_row_as_full_screen_section=”no” type=”full_width” angled_section=”no” text_align=”left” background_image_as_pattern=”without_pattern” el_class=”single_event_top” z_index=””][vc_column css_animation=”fadeInUp” width=”1/2″][vc_column_text]Past Exhibit\n  Connections: The Arthouse Group\n  \n  \n  Sep 2–Oct 18\, 2025\n  Carnegie Visual Arts Center\n  \n	[/vc_column_text][vc_column_text]There are many connections that bond people\, places and things to each other and the world around us. There are tangible connections we make through physical touch\, like hugs or handshakes. Infrastructure such as roads\, bridges\, powerlines\, and phonelines connect us geographically or give us the ability to communicate with each other from great distances. Links can connect the past to the present through genetics and ancestral stories. Metaphorical bonds\, like common interests\, link people and bring them together. This exhibit focuses on the different forms connection can take and how each artist interprets them. Connections are an important part of what makes us human and the pieces in this exhibit encompass and embrace that idea. \nThe Arthouse Group artists found each other through their connection to the Carnegie Visual Arts Center and their love of creating art. What started out as a group of friends meeting and learning from each other grew and evolved into The Arthouse Group. The strong ties that link the Arthouse Group to the Carnegie Visual Arts Center became the inspiration for the theme of this exhibit. Founded in 2023\, T.A.G. consists of 10 north Alabama artists. They have a annual show on Grant Street in Decatur\, AL. The members of the Arthouse Group include Laura Grace Clark\, Tammie Clark\, Jessica Emrick\, Marsha Ercegovic\, Rickie Higgins\, Michael Manly\, Michié Mooney\, Jennifer Mumby\, Mary H Reed\, and Rebecca Sower. \nTo learn more about these artists and their work\, please visit the links below.[/vc_column_text][/vc_column][vc_column css_animation=”fadeInRight” width=”1/2″][vc_single_image image=”6338″ img_size=”full” qode_css_animation=””][/vc_column][/vc_row][vc_row css_animation=”” row_type=”row” use_row_as_full_screen_section=”no” type=”full_width” angled_section=”no” text_align=”left” background_image_as_pattern=”without_pattern” el_class=”extra_works” z_index=””][vc_column css_animation=”fadeInUp” width=”1/3″][vc_single_image image=”6354″ img_size=”750×750″ alignment=”center” qode_css_animation=””]About Laura Grace Clark[/vc_column][vc_column css_animation=”fadeInUp” width=”1/3″][vc_single_image image=”5306″ img_size=”750×750″ alignment=”center” qode_css_animation=””]About Jennifer Mumby[/vc_column][vc_column css_animation=”fadeInUp” width=”1/3″][vc_single_image image=”6342″ img_size=”750×750″ alignment=”center” qode_css_animation=””]About Michié Mooney[/vc_column][/vc_row][vc_row css_animation=”” row_type=”row” use_row_as_full_screen_section=”no” type=”full_width” angled_section=”no” text_align=”left” background_image_as_pattern=”without_pattern” el_class=”extra_works” z_index=””][vc_column css_animation=”fadeInUp” width=”1/3″][vc_single_image image=”6403″ img_size=”750×750″ alignment=”center” qode_css_animation=””]About Rickie Higgins[/vc_column][vc_column css_animation=”fadeInUp” width=”1/3″][vc_single_image image=”6345″ img_size=”750×750″ alignment=”center” qode_css_animation=””]About Jessica Emrick[/vc_column][vc_column css_animation=”fadeInUp” width=”1/3″][vc_single_image image=”6405″ img_size=”750×750″ alignment=”center” qode_css_animation=””]About Mary H Reed[/vc_column][/vc_row][vc_row css_animation=”” row_type=”row” use_row_as_full_screen_section=”no” type=”full_width” angled_section=”no” text_align=”left” background_image_as_pattern=”without_pattern” el_class=”extra_works” z_index=””][vc_column css_animation=”fadeInUp” width=”1/3″][vc_single_image image=”6410″ img_size=”750×750″ alignment=”center” qode_css_animation=””]About Marsha Ercegovic[/vc_column][vc_column css_animation=”fadeInUp” width=”1/3″][vc_single_image image=”6465″ img_size=”750×750″ alignment=”center” qode_css_animation=””]About Michael Manly[/vc_column][vc_column css_animation=”fadeInUp” width=”1/3″][vc_single_image image=”6413″ img_size=”750×750″ alignment=”center” qode_css_animation=””]About Rebecca Sower[/vc_column][/vc_row][vc_row css_animation=”” row_type=”row” use_row_as_full_screen_section=”no” type=”full_width” angled_section=”no” text_align=”left” background_image_as_pattern=”without_pattern” el_class=”extra_works” z_index=””][vc_column css_animation=”fadeInUp” width=”1/3″][vc_single_image image=”6503″ img_size=”750×750″ alignment=”center” qode_css_animation=””]About Tammie Clark[/vc_column][/vc_row] \n
URL:https://www.carnegiearts.org/event/connections-exhibit/
LOCATION:Carnegie Visual Arts Center\, 207 Church Street\, NE\, Decatur\, AL\, 35601\, United States
GEO:34.6116027;-86.9820676
X-APPLE-STRUCTURED-LOCATION;VALUE=URI;X-ADDRESS=Carnegie Visual Arts Center 207 Church Street NE Decatur AL 35601 United States;X-APPLE-RADIUS=500;X-TITLE=207 Church Street\, NE:geo:-86.9820676,34.6116027
CATEGORIES:Exhibit
ATTACH;FMTTYPE=image/jpeg:https://www.carnegiearts.org/wp-content/uploads/2025/08/ArtHG_Event_WEB.jpg
END:VEVENT
END:VCALENDAR