BEGIN:VCALENDAR
VERSION:2.0
PRODID:-//Carnegie Visual Arts Center - ECPv4.9.1.1//NONSGML v1.0//EN
CALSCALE:GREGORIAN
METHOD:PUBLISH
X-WR-CALNAME:Carnegie Visual Arts Center
X-ORIGINAL-URL:https://www.carnegiearts.org
X-WR-CALDESC:Events for Carnegie Visual Arts Center
BEGIN:VEVENT
DTSTART;TZID=America/Chicago:20240110T080000
DTEND;TZID=America/Chicago:20240223T170000
DTSTAMP:20260424T021112
CREATED:20231206T112127Z
LAST-MODIFIED:20240125T144254Z
UID:4721-1704895200-1708729200@www.carnegiearts.org
SUMMARY:Embracing Art XXII-Call for Artists 2024
DESCRIPTION:[vc_row css_animation=”” row_type=”row” use_row_as_full_screen_section=”no” type=”full_width” angled_section=”no” text_align=”left” background_image_as_pattern=”without_pattern” el_class=”single_event_top” z_index=””][vc_column css_animation=”fadeInUp” width=”1/3″][vc_column_text]Past Event\n  Embracing Art XXII-Call for Artists 2024\n  \n  \n  Jan 10–Feb 23\, 2024\n  Carnegie Visual Arts Center\n  \n	[/vc_column_text][vc_column_text] \nOpening January 10\, 2024 \nSubmission Deadline: February 23rd\, 2024\, at 5 PM \nExhibit Dates: April 16-May 25\, 2024 \nThe 22nd edition of our annual show is presented to showcase artists from the North Alabama area. This is an open call to North Alabama area artists who work in all mediums to enter images of their work for consideration. The artist may be professional or amateur\, and 18 years of age or older. Juried awards will be given for 1st\, 2nd & 3rd place overall.  Additional awards to include Director’s Choice Award\, Curator’s Choice\, and Honorable Mention within categories. \nSubmission consists of:  completed Application Form\, photographs of works\, and entry fee. Submissions by mail must be postmarked by Friday\, February 16th.  Submissions in person or by email must be received by Friday\, February 23rd\, at 5 PM. \n[/vc_column_text]Submit Now[/vc_column][vc_column css_animation=”fadeInRight” width=”2/3″][vc_single_image image=”4724″ img_size=”full” qode_css_animation=””][/vc_column][/vc_row] \n
URL:https://www.carnegiearts.org/event/embracing-art-call-for-artists-2024/
LOCATION:Carnegie Visual Arts Center\, 207 Church Street\, NE\, Decatur\, AL\, 35601\, United States
GEO:34.6116027;-86.9820676
X-APPLE-STRUCTURED-LOCATION;VALUE=URI;X-ADDRESS=Carnegie Visual Arts Center 207 Church Street NE Decatur AL 35601 United States;X-APPLE-RADIUS=500;X-TITLE=207 Church Street\, NE:geo:-86.9820676,34.6116027
CATEGORIES:Event
ATTACH;FMTTYPE=image/jpeg:https://www.carnegiearts.org/wp-content/uploads/2023/12/EA_WEB_HEADER.jpg
END:VEVENT
END:VCALENDAR