BEGIN:VCALENDAR
VERSION:2.0
PRODID:-//Carnegie Visual Arts Center - ECPv4.9.1.1//NONSGML v1.0//EN
CALSCALE:GREGORIAN
METHOD:PUBLISH
X-WR-CALNAME:Carnegie Visual Arts Center
X-ORIGINAL-URL:https://www.carnegiearts.org
X-WR-CALDESC:Events for Carnegie Visual Arts Center
BEGIN:VEVENT
DTSTART;TZID=America/Chicago:20250918T000000
DTEND;TZID=America/Chicago:20250918T120000
DTSTAMP:20260424T154837
CREATED:20250815T135222Z
LAST-MODIFIED:20250827T155051Z
UID:6418-1758171600-1758214800@www.carnegiearts.org
SUMMARY:Farm to Table\, An Evening at the Market-Sold Out
DESCRIPTION:[vc_row css_animation=”” row_type=”row” use_row_as_full_screen_section=”no” type=”full_width” angled_section=”no” text_align=”left” background_image_as_pattern=”without_pattern” el_class=”single_event_top” z_index=””][vc_column css_animation=”fadeInUp” width=”1/2″][vc_column_text]Past Event\n  Farm to Table\, An Evening at the Market-Sold Out\n  \n  \n  Sep 18\, 20256 pm\n  Decatur Farmer’s Market\n  \n	[/vc_column_text][vc_column_text]The Carnegie Visual Arts Center presents: Farm to Table\, An Evening at the Market \nJoin us at 6pm on Thursday\, September 18th\, for a special night of culinary creativity and community spirit! Local chefs will serve up their signature dishes created with the best produce from our local farmers in a one-of-a-kind dining experience. A cash bar will be available. Come hungry and leave inspired—this is a night you won’t want to miss! \nFeatured Chefs: \n\nChris Lilly – Pitmaster\, Big Bob Gibson Bar-B-Q\nBetty Sims – Chef & 3-time Cookbook Author\nJake Reed – Local Chef Extraordinaire\nScott Boyers – Pitmaster\, Deviant Smoke\nSilas Whitt – Junior Chef\nProvisional Events\, LLC – Flavor Craftsman & Floral Design Expert\n\n[/vc_column_text][vc_column_text]Tickets: $100 | Limited seating – reserve early![/vc_column_text][vc_column_text]This event is sponsored by Alabama Farmers Co-Op\, BCA General Contractors\, GreenPoint Ag\, and Harris\, Caddell & Shanks\, P.C.[/vc_column_text][/vc_column][vc_column css_animation=”fadeInRight” width=”1/2″][vc_single_image image=”6439″ img_size=”full” qode_css_animation=””][/vc_column][/vc_row][vc_row css_animation=”” row_type=”row” use_row_as_full_screen_section=”no” type=”full_width” angled_section=”no” text_align=”left” background_image_as_pattern=”without_pattern”][vc_column width=”1/4″][vc_single_image image=”6525″ alignment=”center” qode_css_animation=””][/vc_column][vc_column width=”1/4″][vc_single_image image=”6526″ alignment=”center” qode_css_animation=””][/vc_column][vc_column width=”1/4″][vc_single_image image=”6524″ alignment=”center” qode_css_animation=””][/vc_column][vc_column width=”1/4″][vc_single_image image=”6527″ alignment=”center” qode_css_animation=””][/vc_column][/vc_row] \n
URL:https://www.carnegiearts.org/event/farm-to-table/
LOCATION:Decatur Farmer’s Market\, 211 First Avenue\, SE\, Decatur\, AL\, 35601\, United States
CATEGORIES:Event
ATTACH;FMTTYPE=image/jpeg:https://www.carnegiearts.org/wp-content/uploads/2025/08/FarmtoT_Event_WEB.jpg
END:VEVENT
END:VCALENDAR