BEGIN:VCALENDAR
VERSION:2.0
PRODID:-//Carnegie Visual Arts Center - ECPv4.9.1.1//NONSGML v1.0//EN
CALSCALE:GREGORIAN
METHOD:PUBLISH
X-WR-CALNAME:Carnegie Visual Arts Center
X-ORIGINAL-URL:https://www.carnegiearts.org
X-WR-CALDESC:Events for Carnegie Visual Arts Center
BEGIN:VEVENT
DTSTART;TZID=America/Chicago:20240113T000000
DTEND;TZID=America/Chicago:20240113T120000
DTSTAMP:20260424T021436
CREATED:20231113T224829Z
LAST-MODIFIED:20231116T103753Z
UID:4687-1705125600-1705168800@www.carnegiearts.org
SUMMARY:Festival of the Cranes Introduction to Gouache Workshop with Timothy Joe
DESCRIPTION:[vc_row css_animation=”” row_type=”row” use_row_as_full_screen_section=”no” type=”full_width” angled_section=”no” text_align=”left” background_image_as_pattern=”without_pattern” el_class=”single_event_top” z_index=””][vc_column css_animation=”fadeInUp” width=”1/3″][vc_column_text]Past Event\, Workshop\n  Festival of the Cranes Introduction to Gouache Workshop with Timothy Joe\n  \n  \n  Jan 13\, 202410:00 am-12:00 pm\n  Carnegie Visual Arts Center\n  \n	[/vc_column_text][vc_column_text]Want to start painting with gouache paint but do not know where to start? \nLearn how to paint with gouache with confidence and enthusiasm. \nClass will be taught by artist\, Timothy Joe\, from 10-12 on Saturday\, January 13th. \nRecommended supplies: M. Graham 1/2 ounce tube 5 Color Gouache Paint Primary Set \nCost: $100[/vc_column_text]Register[/vc_column][vc_column css_animation=”fadeInRight” width=”2/3″][vc_single_image image=”4688″ img_size=”full” qode_css_animation=””][/vc_column][/vc_row] \n
URL:https://www.carnegiearts.org/event/gouache-workshop-with-timothy-joe/
LOCATION:Carnegie Visual Arts Center\, 207 Church Street\, NE\, Decatur\, AL\, 35601\, United States
GEO:34.6116027;-86.9820676
X-APPLE-STRUCTURED-LOCATION;VALUE=URI;X-ADDRESS=Carnegie Visual Arts Center 207 Church Street NE Decatur AL 35601 United States;X-APPLE-RADIUS=500;X-TITLE=207 Church Street\, NE:geo:-86.9820676,34.6116027
CATEGORIES:Event,Workshop
ATTACH;FMTTYPE=image/jpeg:https://www.carnegiearts.org/wp-content/uploads/2023/11/GOUACHE_WEB_WORKSHOP.jpg
END:VEVENT
END:VCALENDAR