BEGIN:VCALENDAR
VERSION:2.0
PRODID:-//Carnegie Visual Arts Center - ECPv4.9.1.1//NONSGML v1.0//EN
CALSCALE:GREGORIAN
METHOD:PUBLISH
X-WR-CALNAME:Carnegie Visual Arts Center
X-ORIGINAL-URL:https://www.carnegiearts.org
X-WR-CALDESC:Events for Carnegie Visual Arts Center
BEGIN:VEVENT
DTSTART;VALUE=DATE:20230717
DTEND;VALUE=DATE:20230722
DTSTAMP:20260421T232656
CREATED:20230626T122652Z
LAST-MODIFIED:20230626T131728Z
UID:4574-1689570000-1690001999@www.carnegiearts.org
SUMMARY:Mixed Media Middle School Camp Carnegie 2023
DESCRIPTION:[vc_row css_animation=”” row_type=”row” use_row_as_full_screen_section=”no” type=”full_width” angled_section=”no” text_align=”left” background_image_as_pattern=”without_pattern” el_class=”single_event_top” z_index=””][vc_column css_animation=”fadeInUp” width=”1/3″][vc_column_text]Past Event\n  Mixed Media Middle School Camp Carnegie 2023\n  \n  \n  Jul 17–21\, 2023\n  Carnegie Visual Arts Center\n  \n	[/vc_column_text][vc_column_text] \nMixed Media Middle School Art Camp (Grades 6-8th grade) \nJuly 17-21\, 9:00 am-12:00 pm\nLearn basic techniques of Drawing\, Painting\, 3 Dimensional Building\, and more with instructor\, Lenny Fowler!  Campers will be immersed in activities that stretch their creativity while having fun and learning how to put their knowledge and new techniques into practice.  \nCamp size is limited to 12  students.  \nCost:\n$110 for Not Yet Members\n$100 for Members \n[/vc_column_text]Register[/vc_column][vc_column css_animation=”fadeInRight” width=”2/3″][vc_single_image image=”2728″ img_size=”full” qode_css_animation=””][/vc_column][/vc_row] \n
URL:https://www.carnegiearts.org/event/mixed-media-middle-school-camp-carnegie-2023/
LOCATION:Carnegie Visual Arts Center\, 207 Church Street\, NE\, Decatur\, AL\, 35601\, United States
GEO:34.6116027;-86.9820676
X-APPLE-STRUCTURED-LOCATION;VALUE=URI;X-ADDRESS=Carnegie Visual Arts Center 207 Church Street NE Decatur AL 35601 United States;X-APPLE-RADIUS=500;X-TITLE=207 Church Street\, NE:geo:-86.9820676,34.6116027
CATEGORIES:Event
ATTACH;FMTTYPE=image/jpeg:https://www.carnegiearts.org/wp-content/uploads/2020/08/Tammie.jpg
END:VEVENT
END:VCALENDAR