BEGIN:VCALENDAR
VERSION:2.0
PRODID:-//Carnegie Visual Arts Center - ECPv4.9.1.1//NONSGML v1.0//EN
CALSCALE:GREGORIAN
METHOD:PUBLISH
X-WR-CALNAME:Carnegie Visual Arts Center
X-ORIGINAL-URL:https://www.carnegiearts.org
X-WR-CALDESC:Events for Carnegie Visual Arts Center
BEGIN:VEVENT
DTSTART;TZID=America/Chicago:20230725T000000
DTEND;TZID=America/Chicago:20230725T235900
DTSTAMP:20260422T010850
CREATED:20230717T112648Z
LAST-MODIFIED:20230722T122554Z
UID:4585-1690261200-1690347540@www.carnegiearts.org
SUMMARY:Oil Painting Class with Landon Bailey Higgins
DESCRIPTION:[vc_row css_animation=”” row_type=”row” use_row_as_full_screen_section=”no” type=”full_width” angled_section=”no” text_align=”left” background_image_as_pattern=”without_pattern” el_class=”single_event_top” z_index=””][vc_column css_animation=”fadeInUp” width=”1/3″][vc_column_text]Past Event\n  Oil Painting Class with Landon Bailey Higgins\n  \n  \n  Jul 25\, 20236:30 pm\n  Carnegie Visual Arts Center\n  \n	[/vc_column_text][vc_column_text]Oil Painting Class with Landon Bailey Higgins-CLASS IS FULL \nTuesday\, July 25th at 6:30 pm \nThis oil painting class will be focused on representing light and exploring color relationships. In the paintings\, we will include elements of landscape and still life painting and briefly discuss the historical context of the two genres. \nRegistration: $75[/vc_column_text][/vc_column][vc_column css_animation=”fadeInRight” width=”2/3″][vc_single_image image=”4586″ img_size=”full” qode_css_animation=””][/vc_column][/vc_row][vc_row css_animation=”” row_type=”row” use_row_as_full_screen_section=”no” type=”full_width” angled_section=”no” text_align=”left” background_image_as_pattern=”without_pattern”][vc_column width=”1/2″][vc_column_text]About the artist: \nLandon Bailey Higgins (b. 1996\, Huntsville\, AL) is a painter based in Brooklyn\, NY. Higgins received a BA from Hunter College (NYC) and an AAS from Pratt Institute (Brooklyn\, NY). Landon’s work has recently been exhibited in group shows and international art fairs in New York\, Miami\, Copenhagen and Ibiza. Landon has been featured in Hyperallergic\, Juxtapoz\, among other publications. He is currently represented by Gallery Poulsen in Copenhagen\, Denmark.[/vc_column_text][/vc_column][vc_column width=”1/2″][vc_gallery interval=”3″ images=”4592″][/vc_column][/vc_row] \n
URL:https://www.carnegiearts.org/event/oil-painting-class-with-landon-bailey-higgins/
LOCATION:Carnegie Visual Arts Center\, 207 Church Street\, NE\, Decatur\, AL\, 35601\, United States
GEO:34.6116027;-86.9820676
X-APPLE-STRUCTURED-LOCATION;VALUE=URI;X-ADDRESS=Carnegie Visual Arts Center 207 Church Street NE Decatur AL 35601 United States;X-APPLE-RADIUS=500;X-TITLE=207 Church Street\, NE:geo:-86.9820676,34.6116027
CATEGORIES:Event
ATTACH;FMTTYPE=image/jpeg:https://www.carnegiearts.org/wp-content/uploads/2023/07/LBH-PORTRAIT-WEB.jpg
END:VEVENT
END:VCALENDAR